BEGIN:VCALENDAR
VERSION:2.0
PRODID:-//Kelso – Longview Elks Lodge #1482 - ECPv6.15.17//NONSGML v1.0//EN
CALSCALE:GREGORIAN
METHOD:PUBLISH
X-WR-CALNAME:Kelso – Longview Elks Lodge #1482
X-ORIGINAL-URL:https://www.elks1482.org
X-WR-CALDESC:Events for Kelso – Longview Elks Lodge #1482
REFRESH-INTERVAL;VALUE=DURATION:PT1H
X-Robots-Tag:noindex
X-PUBLISHED-TTL:PT1H
BEGIN:VTIMEZONE
TZID:America/Los_Angeles
BEGIN:DAYLIGHT
TZOFFSETFROM:-0800
TZOFFSETTO:-0700
TZNAME:PDT
DTSTART:20190310T100000
END:DAYLIGHT
BEGIN:STANDARD
TZOFFSETFROM:-0700
TZOFFSETTO:-0800
TZNAME:PST
DTSTART:20191103T090000
END:STANDARD
BEGIN:DAYLIGHT
TZOFFSETFROM:-0800
TZOFFSETTO:-0700
TZNAME:PDT
DTSTART:20200308T100000
END:DAYLIGHT
BEGIN:STANDARD
TZOFFSETFROM:-0700
TZOFFSETTO:-0800
TZNAME:PST
DTSTART:20201101T090000
END:STANDARD
BEGIN:DAYLIGHT
TZOFFSETFROM:-0800
TZOFFSETTO:-0700
TZNAME:PDT
DTSTART:20210314T100000
END:DAYLIGHT
BEGIN:STANDARD
TZOFFSETFROM:-0700
TZOFFSETTO:-0800
TZNAME:PST
DTSTART:20211107T090000
END:STANDARD
BEGIN:DAYLIGHT
TZOFFSETFROM:-0800
TZOFFSETTO:-0700
TZNAME:PDT
DTSTART:20220313T100000
END:DAYLIGHT
BEGIN:STANDARD
TZOFFSETFROM:-0700
TZOFFSETTO:-0800
TZNAME:PST
DTSTART:20221106T090000
END:STANDARD
BEGIN:DAYLIGHT
TZOFFSETFROM:-0800
TZOFFSETTO:-0700
TZNAME:PDT
DTSTART:20230312T100000
END:DAYLIGHT
BEGIN:STANDARD
TZOFFSETFROM:-0700
TZOFFSETTO:-0800
TZNAME:PST
DTSTART:20231105T090000
END:STANDARD
END:VTIMEZONE
BEGIN:VEVENT
DTSTART;TZID=America/Los_Angeles:20220813T073000
DTEND;TZID=America/Los_Angeles:20220814T170000
DTSTAMP:20260424T191820
CREATED:20220214T212749Z
LAST-MODIFIED:20220214T212802Z
UID:4242-1660375800-1660496400@www.elks1482.org
SUMMARY:2022 Washington State Elks Golf Championship
DESCRIPTION:Entry Form
URL:https://www.elks1482.org/calendar/2022-washington-state-elks-golf-championship/
LOCATION:Three Rivers Golf Course\, 2222 S River Rd\, Kelso\, WA\, 98632\, United States
CATEGORIES:Golf Tournaments
ORGANIZER;CN="Kelso Longview Elks 1482":MAILTO:amber.elksclubmanager@gmail.com
END:VEVENT
BEGIN:VEVENT
DTSTART;TZID=America/Los_Angeles:20200913T080000
DTEND;TZID=America/Los_Angeles:20200913T170000
DTSTAMP:20260424T191820
CREATED:20200110T032549Z
LAST-MODIFIED:20200110T032549Z
UID:2244-1599984000-1600016400@www.elks1482.org
SUMMARY:Foster Farms Kilted Klassic Golf Tournament
DESCRIPTION:Highlander Festival Annual Golf Tournament
URL:https://www.elks1482.org/calendar/foster-farms-kilted-klassic-golf-tournament/
LOCATION:Three Rivers Golf Course\, 2222 S River Rd\, Kelso\, WA\, 98632\, United States
CATEGORIES:Golf Tournaments
ORGANIZER;CN="Lance Satcher":MAILTO:3riversgolf@comcast.net
END:VEVENT
END:VCALENDAR